BEGIN:VCALENDAR
VERSION:2.0
PRODID:-//De Alkenaer - ECPv6.15.20//NONSGML v1.0//EN
CALSCALE:GREGORIAN
METHOD:PUBLISH
X-WR-CALNAME:De Alkenaer
X-ORIGINAL-URL:https://alkenaer.nl
X-WR-CALDESC:Evenementen voor De Alkenaer
REFRESH-INTERVAL;VALUE=DURATION:PT1H
X-Robots-Tag:noindex
X-PUBLISHED-TTL:PT1H
BEGIN:VTIMEZONE
TZID:Europe/Amsterdam
BEGIN:DAYLIGHT
TZOFFSETFROM:+0100
TZOFFSETTO:+0200
TZNAME:CEST
DTSTART:20230326T010000
END:DAYLIGHT
BEGIN:STANDARD
TZOFFSETFROM:+0200
TZOFFSETTO:+0100
TZNAME:CET
DTSTART:20231029T010000
END:STANDARD
BEGIN:DAYLIGHT
TZOFFSETFROM:+0100
TZOFFSETTO:+0200
TZNAME:CEST
DTSTART:20240331T010000
END:DAYLIGHT
BEGIN:STANDARD
TZOFFSETFROM:+0200
TZOFFSETTO:+0100
TZNAME:CET
DTSTART:20241027T010000
END:STANDARD
BEGIN:DAYLIGHT
TZOFFSETFROM:+0100
TZOFFSETTO:+0200
TZNAME:CEST
DTSTART:20250330T010000
END:DAYLIGHT
BEGIN:STANDARD
TZOFFSETFROM:+0200
TZOFFSETTO:+0100
TZNAME:CET
DTSTART:20251026T010000
END:STANDARD
END:VTIMEZONE
BEGIN:VEVENT
DTSTART;TZID=Europe/Amsterdam:20240601T160000
DTEND;TZID=Europe/Amsterdam:20240601T173000
DTSTAMP:20260426T030807
CREATED:20240524T140306Z
LAST-MODIFIED:20240524T140800Z
UID:63852-1717257600-1717263000@alkenaer.nl
SUMMARY:Reuring presenteert: Lettervogel en andere vogels van diverse pluimage
DESCRIPTION:Zaterdag 1 juni brengt Reuring de dichters Elbert Gonggrijp\, Kees Leeuwerink en Jan Bulsink\, alsmede dichter/schrijver/muzikant Twan Vet. Absoluut geen vreemde vogels\, kleurrijk zijn ze zeker wel. Alle vier dichters zijn de concentratie van het luisteren dan ook meer dan waard. Op onze collage staan ze allemaal. Wil je weten wie wie is\, kom dan kijken en luisteren in De Alkenaer. Meer info. \n\n\n\nJe mag zomaar naar binnen\, zonder te betalen en zonder reservering. Hoe leuk is dat.
URL:https://alkenaer.nl/evenement/reuring-presenteert-lettervogel-en-andere-vogels-van-diverse-pluimage/
CATEGORIES:Podium
ATTACH;FMTTYPE=image/png:https://alkenaer.nl/de_alkenaer/wp-content/uploads/2024/05/Reuring-1-juni.png
END:VEVENT
BEGIN:VEVENT
DTSTART;TZID=Europe/Amsterdam:20240628T200000
DTEND;TZID=Europe/Amsterdam:20240628T220000
DTSTAMP:20260426T030807
CREATED:20240326T133729Z
LAST-MODIFIED:20240328T134403Z
UID:63364-1719604800-1719612000@alkenaer.nl
SUMMARY:Une promenade dans les rues de Paris
DESCRIPTION:Chansonnier vader Christophe Chaplet en zijn dochter Marie zingen en spelen in De Alkenaer. Op de laatste avond van ons theaterseizoen nemen zij ons mee op een wandeling door de straten van Parijs. \n\n\n\nVoor degenen\, die geweest zijn een herinnering\, voor degenen\, die nog gaan een voorproefje. Maar voor hen\, die Parijs toch maar overslaan dit jaar\, vanwege de torenhoge prijzen i.v.m. de komende Olympische Spelen een zachte troost. Dus neem plaats in onze salon en laat je meevoeren… \n\n\n\n \n\n\n\n 
URL:https://alkenaer.nl/evenement/une-promenade-dans-les-rues-de-paris/
CATEGORIES:Podium
ATTACH;FMTTYPE=image/png:https://alkenaer.nl/de_alkenaer/wp-content/uploads/2024/03/Fam.-Chaplet-def.png
END:VEVENT
END:VCALENDAR