BEGIN:VCALENDAR
VERSION:2.0
PRODID:-//De Alkenaer - ECPv6.15.20//NONSGML v1.0//EN
CALSCALE:GREGORIAN
METHOD:PUBLISH
X-ORIGINAL-URL:https://alkenaer.nl
X-WR-CALDESC:Evenementen voor De Alkenaer
REFRESH-INTERVAL;VALUE=DURATION:PT1H
X-Robots-Tag:noindex
X-PUBLISHED-TTL:PT1H
BEGIN:VTIMEZONE
TZID:Europe/Brussels
BEGIN:DAYLIGHT
TZOFFSETFROM:+0100
TZOFFSETTO:+0200
TZNAME:CEST
DTSTART:20250330T010000
END:DAYLIGHT
BEGIN:STANDARD
TZOFFSETFROM:+0200
TZOFFSETTO:+0100
TZNAME:CET
DTSTART:20251026T010000
END:STANDARD
BEGIN:DAYLIGHT
TZOFFSETFROM:+0100
TZOFFSETTO:+0200
TZNAME:CEST
DTSTART:20260329T010000
END:DAYLIGHT
BEGIN:STANDARD
TZOFFSETFROM:+0200
TZOFFSETTO:+0100
TZNAME:CET
DTSTART:20261025T010000
END:STANDARD
BEGIN:DAYLIGHT
TZOFFSETFROM:+0100
TZOFFSETTO:+0200
TZNAME:CEST
DTSTART:20270328T010000
END:DAYLIGHT
BEGIN:STANDARD
TZOFFSETFROM:+0200
TZOFFSETTO:+0100
TZNAME:CET
DTSTART:20271031T010000
END:STANDARD
END:VTIMEZONE
BEGIN:VEVENT
DTSTART;TZID=Europe/Brussels:20260502T150000
DTEND;TZID=Europe/Brussels:20260502T163000
DTSTAMP:20260423T211523
CREATED:20250831T142943Z
LAST-MODIFIED:20260413T183537Z
UID:74537-1777734000-1777739400@alkenaer.nl
SUMMARY:Reuring met Alja Spaan & Bob Dylan
DESCRIPTION:Een sprankelend eigenwijs literair initiatief van dichter/schrijver Alja Spaan \n\n\n\n \n\n\n\n\n\nZaterdag 2 mei ademt Reuring weer die onmiskenbare geest van Bob Dylan.Een middag waar tijd geen vat lijkt te hebben\, waar stemmen schuren en zinnen blijven hangen\, waar muziek en poëzie elkaar vinden zoals alleen Dylan dat ooit voordeed. \n\n\n\nZe komen samen\, de vertolkers\, de vertalers\, de zoekers:Arie van Egmond\, die zingt alsof het altijd al zo bedoeld was.Bert van Baar & Bert Claasen\, twee geluiden die elkaar vinden in het rafelige randje van een lied.Jeremy Keighley\, reiziger tussen talen en klanken.Karel Wasch\, met een oor voor de echo van toen in het nu.Wopke van der Lei\, die de woorden laat landen waar ze moeten landen.En Alja Spaan\, die woorden weeft tot Dylan. \n\n\n\nZe zingen\, hertalen\, herscheppen… en vieren…Dat Dylan er nog is. Dat hij bijna 85 wordt.Dat die ene protestsong misschien nooit komt… en misschien ook niet meer hoeft… \n\n\n\nWant hier\, vanmiddag leeft hij toch.In elke stem\, elke zin\, elke stilte ertussenin. \n\n\n\nAllemaal een jaartje ouder\, zeker.Maar net als the master himself: forever young! \n\n\n\nIedere eerste zaterdag van de maand is het tijd voor Reuring – een eigenzinnig literair podium van Alja Spaan. Dichters\, schrijvers\, musici en kunstenaars delen hun werk in een intieme setting\, gewoon voor de kunst. Gratis toegankelijk voor iedereen die zich wil laten verrassen\, raken of inspireren. Een middag vol klank\, kleur en woord.
URL:https://alkenaer.nl/evenement/reuring-met-alja-spaan-5/
CATEGORIES:Concert,Cultuur,Literatuur,Podium,Poëzie,Singer-songwriter,Theater
ATTACH;FMTTYPE=image/jpeg:https://alkenaer.nl/de_alkenaer/wp-content/uploads/2025/08/Reuring-2-mei-26-NB.jpeg
END:VEVENT
BEGIN:VEVENT
DTSTART;TZID=Europe/Brussels:20260504T210000
DTEND;TZID=Europe/Brussels:20260504T220000
DTSTAMP:20260423T211523
CREATED:20250831T145620Z
LAST-MODIFIED:20251122T141708Z
UID:74542-1777928400-1777932000@alkenaer.nl
SUMMARY:Feest der Poëzie / Theater na de Dam - Toch kennen dromen ook gevoel voor tijd
DESCRIPTION:Een aangrijpende muzikale leesvoorstelling rond Albrecht Haushofers Moabiter Sonette\, geschreven in gevangenschap tijdens WOII. Vertaler Maarten Asscher leidt in\, Simon Mulder draagt voor\, en Rosina Fabius\, Matthias Naegele en Lis Perry brengen de muziek van Henry Kelder en tijdgenoten tot leven. Indringend literair theater over morele keuzes\, verlies en hoop. \n\n\n\n\nMuziek en voordracht rond de sonnetten van Albrecht Haushofer in het kader van Theater na de Dam.’Vertaler en romancier Maarten Asscher vertaalde onder de titel Toch kennen dromen ook gevoel voor tijd een selectie uit de sonnetten die Albrecht Haushofer tijdens de laatste maanden van de Tweede Wereldoorlog schreef in de gevangenis in de Berlijnse wijk Moabit. \n\n\n\nMet deze als Moabiter Sonette beroemd geworden gedichtencyclus legt Haushofer verantwoording af over zijn morele worsteling als diplomaat gedurende de jaren van het Derde Rijk en beschouwt hij het verval van de Duitse cultuurnatie. Ze vormen het geestelijke testament van een belezen kosmopoliet\, wiens wereld is teruggebracht tot een bestaan waarin de dagelijkse en nachtelijke geallieerde bombardementen het apocalyptische slot van de oorlog inluidden. Een wereld die uiteindelijk gereduceerd wordt tot een Gestapo-gevangeniscel waar verre dromen en dierbare herinneringen het moeten opnemen tegen het rammelen van ketens\, het zoemen van een mug of de zwijgende confrontaties met de jonge Oost-Europese boeren die als cipiers dienstdoen. \n\n\n\nLiterair theatercollectief Feest der Poëzie presenteert deze werken met voordracht en muziek. Na een inleiding door vertaler Maarten Asscher brengt voordrachtskunstenaar Simon Mulder een leesvoorstelling over het verhaal van Haushofer\, waarin zijn gedichten een grote rol spelen. Componist Henry Kelder heeft voor de gelegenheid drie van de sonnetten getoonzet voor sopraan\, viool en cello. Een sterrencast bestaande uit Rosina Fabius (mezzosopraan)\, Matthias Naegele (cello) en Lis Perry (viool) brengt bijpassende muziek rondom de voordrachten en verzorgt de liederen.
URL:https://alkenaer.nl/evenement/feest-der-poezie-theater-na-de-dam-toch-kennen-dromen-ook-gevoel-voor-tijd/
CATEGORIES:Literatuur,Poëzie,Theatervoorstelling
ATTACH;FMTTYPE=image/png:https://alkenaer.nl/de_alkenaer/wp-content/uploads/2025/08/Theater-na-de-Dam.png
END:VEVENT
BEGIN:VEVENT
DTSTART;TZID=Europe/Brussels:20260606T150000
DTEND;TZID=Europe/Brussels:20260606T163000
DTSTAMP:20260423T211523
CREATED:20250831T201505Z
LAST-MODIFIED:20260401T162605Z
UID:74647-1780758000-1780763400@alkenaer.nl
SUMMARY:Reuring met Alja Spaan
DESCRIPTION:Een sprankelend eigenwijs literair initiatief van dichter/schrijver Alja Spaan \n\n\n\n \n\n\n\n\n\nIedere eerste zaterdag van de maand is het tijd voor Reuring – een eigenzinnig literair podium van Alja Spaan. Dichters\, schrijvers\, musici en kunstenaars delen hun werk in een intieme setting\, gewoon voor de kunst. Gratis toegankelijk voor iedereen die zich wil laten verrassen\, raken of inspireren. Een middag vol klank\, kleur en woord.
URL:https://alkenaer.nl/evenement/reuring-met-alja-spaan-6/
CATEGORIES:Cultuur,Literatuur,Podium,Poëzie
ATTACH;FMTTYPE=image/png:https://alkenaer.nl/de_alkenaer/wp-content/uploads/2025/08/alja-spaan-reuring-nieuw.png
END:VEVENT
BEGIN:VEVENT
DTSTART;TZID=Europe/Brussels:20260704T150000
DTEND;TZID=Europe/Brussels:20260704T163000
DTSTAMP:20260423T211523
CREATED:20250901T084059Z
LAST-MODIFIED:20260401T162439Z
UID:74713-1783177200-1783182600@alkenaer.nl
SUMMARY:Reuring met Alja Spaan
DESCRIPTION:Een sprankelend eigenwijs literair initiatief van dichter/schrijver Alja Spaan \n\n\n\n \n\n\n\n\n\nIedere eerste zaterdag van de maand is het tijd voor Reuring – een eigenzinnig literair podium van Alja Spaan. Dichters\, schrijvers\, musici en kunstenaars delen hun werk in een intieme setting\, gewoon voor de kunst. Gratis toegankelijk voor iedereen die zich wil laten verrassen\, raken of inspireren. Een middag vol klank\, kleur en woord.
URL:https://alkenaer.nl/evenement/reuring-met-alja-spaan-7/
CATEGORIES:Cultuur,Literatuur,Podium,Poëzie
ATTACH;FMTTYPE=image/png:https://alkenaer.nl/de_alkenaer/wp-content/uploads/2025/08/alja-spaan-reuring-nieuw.png
END:VEVENT
END:VCALENDAR