BEGIN:VCALENDAR
VERSION:2.0
PRODID:-//De Alkenaer - ECPv6.15.20//NONSGML v1.0//EN
CALSCALE:GREGORIAN
METHOD:PUBLISH
X-ORIGINAL-URL:https://alkenaer.nl
X-WR-CALDESC:Evenementen voor De Alkenaer
REFRESH-INTERVAL;VALUE=DURATION:PT1H
X-Robots-Tag:noindex
X-PUBLISHED-TTL:PT1H
BEGIN:VTIMEZONE
TZID:Europe/Brussels
BEGIN:DAYLIGHT
TZOFFSETFROM:+0100
TZOFFSETTO:+0200
TZNAME:CEST
DTSTART:20240331T010000
END:DAYLIGHT
BEGIN:STANDARD
TZOFFSETFROM:+0200
TZOFFSETTO:+0100
TZNAME:CET
DTSTART:20241027T010000
END:STANDARD
BEGIN:DAYLIGHT
TZOFFSETFROM:+0100
TZOFFSETTO:+0200
TZNAME:CEST
DTSTART:20250330T010000
END:DAYLIGHT
BEGIN:STANDARD
TZOFFSETFROM:+0200
TZOFFSETTO:+0100
TZNAME:CET
DTSTART:20251026T010000
END:STANDARD
BEGIN:DAYLIGHT
TZOFFSETFROM:+0100
TZOFFSETTO:+0200
TZNAME:CEST
DTSTART:20260329T010000
END:DAYLIGHT
BEGIN:STANDARD
TZOFFSETFROM:+0200
TZOFFSETTO:+0100
TZNAME:CET
DTSTART:20261025T010000
END:STANDARD
END:VTIMEZONE
BEGIN:VEVENT
DTSTART;TZID=Europe/Brussels:20251004T160000
DTEND;TZID=Europe/Brussels:20251004T173000
DTSTAMP:20260424T044904
CREATED:20250805T135553Z
LAST-MODIFIED:20250912T153519Z
UID:73626-1759593600-1759599000@alkenaer.nl
SUMMARY:Reuring
DESCRIPTION:Presentatie nieuwe bundel Paul Roelofsen\n\n\n\nDichter Paul Roelofsen (bekend tot ver buiten Alkmaar\, maar geworteld in Koedijk) presenteert zijn nieuwe gedichtenbundel: \n\n\n\nEn de vissen lispelen tegen het riet \n\n\n\nTijdens deze feestelijke middag wordt Paul geïnterviewd door Jos van Hest van het Poëziefonds Open. Uiteraard draagt Paul ook zelf uit zijn nieuwe bundel voor. Daarnaast laten twee bijzondere dichters hun stem horen: Joris Brussel\, oud-stadsdichter van Alkmaar en groot bewonderaar van Pauls werk én Hans Lemmens\, voor het eerst te gast bij Reuring \n\n\n\nDe middag krijgt een muzikale omlijsting van gitarist Hans de Ruiter\, die ons meevoert met zijn warme klassieke klanken. \n\n\n\nJe bent van harte welkom om deze bijzondere literaire en muzikale bijeenkomst mee te beleven. \n\n\n\nIedere eerste zaterdag van de maand is het tijd voor Reuring\, het eigenzinnig literair podium van dichter/schrijver Alja Spaan. Dichters\, schrijvers\, musici en kunstenaars delen hun werk in een intieme setting\, gewoon voor de kunst. Gratis toegankelijk voor iedereen die zich wil laten verrassen\, raken of inspireren. Een middag vol klank\, kleur en woord. En… reserveren is nog steeds niet noodzakelijk.
URL:https://alkenaer.nl/evenement/reuring-11/
CATEGORIES:Literatuur,Podium,Poëzie
ATTACH;FMTTYPE=image/jpeg:https://alkenaer.nl/de_alkenaer/wp-content/uploads/2025/08/Reuring-4-oktober-scaled.jpg
END:VEVENT
END:VCALENDAR