BEGIN:VCALENDAR
VERSION:2.0
PRODID:-//De Alkenaer - ECPv6.15.20//NONSGML v1.0//EN
CALSCALE:GREGORIAN
METHOD:PUBLISH
X-WR-CALNAME:De Alkenaer
X-ORIGINAL-URL:https://alkenaer.nl
X-WR-CALDESC:Evenementen voor De Alkenaer
REFRESH-INTERVAL;VALUE=DURATION:PT1H
X-Robots-Tag:noindex
X-PUBLISHED-TTL:PT1H
BEGIN:VTIMEZONE
TZID:Europe/Amsterdam
BEGIN:DAYLIGHT
TZOFFSETFROM:+0100
TZOFFSETTO:+0200
TZNAME:CEST
DTSTART:20240331T010000
END:DAYLIGHT
BEGIN:STANDARD
TZOFFSETFROM:+0200
TZOFFSETTO:+0100
TZNAME:CET
DTSTART:20241027T010000
END:STANDARD
BEGIN:DAYLIGHT
TZOFFSETFROM:+0100
TZOFFSETTO:+0200
TZNAME:CEST
DTSTART:20250330T010000
END:DAYLIGHT
BEGIN:STANDARD
TZOFFSETFROM:+0200
TZOFFSETTO:+0100
TZNAME:CET
DTSTART:20251026T010000
END:STANDARD
BEGIN:DAYLIGHT
TZOFFSETFROM:+0100
TZOFFSETTO:+0200
TZNAME:CEST
DTSTART:20260329T010000
END:DAYLIGHT
BEGIN:STANDARD
TZOFFSETFROM:+0200
TZOFFSETTO:+0100
TZNAME:CET
DTSTART:20261025T010000
END:STANDARD
END:VTIMEZONE
BEGIN:VEVENT
DTSTART;TZID=Europe/Amsterdam:20250301T160000
DTEND;TZID=Europe/Amsterdam:20250301T173000
DTSTAMP:20260424T172115
CREATED:20240628T142201Z
LAST-MODIFIED:20250223T170941Z
UID:64206-1740844800-1740850200@alkenaer.nl
SUMMARY:Laat je geen Stuifzand in je ogen strooien\, kom gluren bij Reuring!
DESCRIPTION:Ze kennen elkaar uit hun studententijd\, de een zorgde voor de poëtische teksten en zong en de ander maakte de muzikale composities en speelde gitaar; dichter/zanger Marten Janse en componist/gitarist Jan Rooijmans. Een stadium verder in hun leven hervonden ze elkaar en\, omdat Stuifzand kruipt waar het niet gaan kan\, treden ze weer samen op. Mooie poëtische teksten\, mooie muziek\, Stuifzand in de wind. \n\n\n\nZaterdag 1 maart komt het duo bij Reuring en brengt een handvol eigen Nederlandstalige liedjes\, afgewisseld door gedichten van Janse. \n\n\n\n‘Verzorgd\, doordacht\, smaakvol. Klassieke kleinkunst eigenlijk’\, zoals te lezen viel in de recensie van ‘Gluren bij de Buren’\, zondag 2 februari jl. in het Haarlems Dagblad. \n\n\n\nEn wat een mazzel\, bij Reuring mag je gratis komen gluren. \n\n\n\nReuring is een sprankelend eigenwijs literair initiatief van schrijver/dichter Alja Spaan. Het literair platform biedt maandelijks in De Alkenaer gratis een podium aan diverse dichters\, schrijvers\, musici en kunstenaars.
URL:https://alkenaer.nl/evenement/reuring-7/
CATEGORIES:Podium,Poëzie
ATTACH;FMTTYPE=image/png:https://alkenaer.nl/de_alkenaer/wp-content/uploads/2024/06/stuifzand-def.png
END:VEVENT
END:VCALENDAR