BEGIN:VCALENDAR
VERSION:2.0
PRODID:-//De Alkenaer - ECPv6.15.20//NONSGML v1.0//EN
CALSCALE:GREGORIAN
METHOD:PUBLISH
X-WR-CALNAME:De Alkenaer
X-ORIGINAL-URL:https://alkenaer.nl
X-WR-CALDESC:Evenementen voor De Alkenaer
REFRESH-INTERVAL;VALUE=DURATION:PT1H
X-Robots-Tag:noindex
X-PUBLISHED-TTL:PT1H
BEGIN:VTIMEZONE
TZID:Europe/Amsterdam
BEGIN:DAYLIGHT
TZOFFSETFROM:+0100
TZOFFSETTO:+0200
TZNAME:CEST
DTSTART:20230326T010000
END:DAYLIGHT
BEGIN:STANDARD
TZOFFSETFROM:+0200
TZOFFSETTO:+0100
TZNAME:CET
DTSTART:20231029T010000
END:STANDARD
BEGIN:DAYLIGHT
TZOFFSETFROM:+0100
TZOFFSETTO:+0200
TZNAME:CEST
DTSTART:20240331T010000
END:DAYLIGHT
BEGIN:STANDARD
TZOFFSETFROM:+0200
TZOFFSETTO:+0100
TZNAME:CET
DTSTART:20241027T010000
END:STANDARD
BEGIN:DAYLIGHT
TZOFFSETFROM:+0100
TZOFFSETTO:+0200
TZNAME:CEST
DTSTART:20250330T010000
END:DAYLIGHT
BEGIN:STANDARD
TZOFFSETFROM:+0200
TZOFFSETTO:+0100
TZNAME:CET
DTSTART:20251026T010000
END:STANDARD
END:VTIMEZONE
BEGIN:VEVENT
DTSTART;TZID=Europe/Amsterdam:20241207T160000
DTEND;TZID=Europe/Amsterdam:20241207T173000
DTSTAMP:20260424T200849
CREATED:20240628T125413Z
LAST-MODIFIED:20241127T120954Z
UID:64167-1733587200-1733592600@alkenaer.nl
SUMMARY:Reuring crosses the border!
DESCRIPTION:The poetry critique group is a long-standing group of poets based in and around Amsterdam. Normally we meet twice monthly in an Amsterdam bookshop to give English language poets a chance to have their work critiqued by other poets in an informal\, relaxed environment.Last year they visited Reuring in the Alkenaer\, an outstanding success and now they are BACK! with some musicians. \n\n\n\nThe group of last season / De groep die vorig seizoen De Alkenaer aandeed. (Foto: Cory Behrens) \n\n\n\nZaterdag 7 december gaat Reuring over de grenzen. Op het podium van de Alkenaer treedt dan de Amsterdam Poetry Critique Group op met oa de dichters Jeremy Keighley\, Siobhan Wall\, Fraidoon Warasta en met muziek van Heli St Luce en Erol Suleyman. Deze Engelstalige versie van Reuring was vorig jaar een groot succes\, kom luisteren naar al die verschillende stemmen en klanken die vanuit alle windrichtingen in onze stad landen zodat zelfs het kleinste cultuurpodium grootse afmetingen krijgt. \n\n\n\nReuring: bustle – commotion – life –  buzz – a little stirring up of issues –  a lot of noise – activity – vivacity – verve – something going on – shaking things up – husle and bustle – a bit of a situation… \n\n\n\nJa\, ja… en which one moeten we nu hebben? Of is Reuring een bit of all? Daar kom je vanzelf achter als je step inside De Alkenaer on time! \n\n\n\nReuring is een sprankelend eigenwijs literair initiatief van schrijver/dichter Alja Spaan. Het literair platform biedt maandelijks in De Alkenaer gratis een podium aan diverse dichters\, schrijvers\, musici en kunstenaars. \n\n\n\nFree entrance / Gratis \n\n\n\nReservation is (still) not necessary / Reservering is (nog steeds) niet noodzakelijk
URL:https://alkenaer.nl/evenement/reuring-4/
CATEGORIES:Podium,Poëzie
ATTACH;FMTTYPE=image/png:https://alkenaer.nl/de_alkenaer/wp-content/uploads/2024/06/poster-reuring-7-december-2.png
END:VEVENT
BEGIN:VEVENT
DTSTART;TZID=Europe/Amsterdam:20241211T190000
DTEND;TZID=Europe/Amsterdam:20241211T203000
DTSTAMP:20260424T200849
CREATED:20241203T154334Z
LAST-MODIFIED:20241204T095702Z
UID:68297-1733943600-1733949000@alkenaer.nl
SUMMARY:Stemmen van de Stad: poëzie voordrachtsavond
DESCRIPTION:Deelnemers van de poëzieworkshop van Stemmen van de Stad hebben zich voorbereid om hun eigen gedicht voor te dragen aan een publiek. Tijdens deze inspirerende avond zal er muziek te horen zijn van singer-songwriter Anneleen. Ook wordt een publieks- en juryprijs voor het beste gedicht uitgereikt. De winnaars mogen meedoen aan de Poëzieweek\, georganiseerd door Lonneke van Heugten.Inloop vanaf 18:30 Kijk voor meer informatie op: https://www.stemmenvandestad-alkmaar.nl/ \n\n\n\n\nJesse Bekker Dichter\, docent Nederlands en organisator van Stemmen van de Stad. \n\n\n\n\n\nLonneke van HeugtenStadsdichter van Alkmaar\, schrijfster en organisator van Stemmen van de Stad.Foto: Keith Montgomery
URL:https://alkenaer.nl/evenement/stemmen-van-de-stad-poezie-voordrachtsavond/
CATEGORIES:Poëzie
ATTACH;FMTTYPE=image/jpeg:https://alkenaer.nl/de_alkenaer/wp-content/uploads/2024/12/Stemmen-van-de-stad-insta.jpg
END:VEVENT
END:VCALENDAR