BEGIN:VCALENDAR
VERSION:2.0
PRODID:-//De Alkenaer - ECPv6.15.20//NONSGML v1.0//EN
CALSCALE:GREGORIAN
METHOD:PUBLISH
X-WR-CALNAME:De Alkenaer
X-ORIGINAL-URL:https://alkenaer.nl
X-WR-CALDESC:Evenementen voor De Alkenaer
REFRESH-INTERVAL;VALUE=DURATION:PT1H
X-Robots-Tag:noindex
X-PUBLISHED-TTL:PT1H
BEGIN:VTIMEZONE
TZID:Europe/Brussels
BEGIN:DAYLIGHT
TZOFFSETFROM:+0100
TZOFFSETTO:+0200
TZNAME:CEST
DTSTART:20240331T010000
END:DAYLIGHT
BEGIN:STANDARD
TZOFFSETFROM:+0200
TZOFFSETTO:+0100
TZNAME:CET
DTSTART:20241027T010000
END:STANDARD
BEGIN:DAYLIGHT
TZOFFSETFROM:+0100
TZOFFSETTO:+0200
TZNAME:CEST
DTSTART:20250330T010000
END:DAYLIGHT
BEGIN:STANDARD
TZOFFSETFROM:+0200
TZOFFSETTO:+0100
TZNAME:CET
DTSTART:20251026T010000
END:STANDARD
BEGIN:DAYLIGHT
TZOFFSETFROM:+0100
TZOFFSETTO:+0200
TZNAME:CEST
DTSTART:20260329T010000
END:DAYLIGHT
BEGIN:STANDARD
TZOFFSETFROM:+0200
TZOFFSETTO:+0100
TZNAME:CET
DTSTART:20261025T010000
END:STANDARD
END:VTIMEZONE
BEGIN:VEVENT
DTSTART;TZID=Europe/Brussels:20250925T200000
DTEND;TZID=Europe/Brussels:20250925T223000
DTSTAMP:20260421T080709
CREATED:20250805T090902Z
LAST-MODIFIED:20250805T090904Z
UID:73550-1758830400-1758839400@alkenaer.nl
SUMMARY:Gijsbert van Iterson Scholten\, PhD / De meeste staten deugen
DESCRIPTION:Een hoopvolle lezing over oorlog en vrede \n\n\n\n \n\n\n\n\n\nIn een tijd waarin oorlogen\, dreigingen en geopolitieke spanningen dagelijks het nieuws beheersen\, lijkt vrede verder weg dan ooit. Maar wat als we ons beeld bijstelden? Wat als er juist méér reden tot hoop is dan we denken? \n\n\n\nVredeswetenschapper Gijsbert van Iterson Scholten laat in deze inspirerende lezing zien waarom we niet cynisch hoeven te worden. Integendeel: hij vertelt het vaak onvertelde verhaal van de vooruitgang\, internationale samenwerking en de stille kracht van ‘positieve vrede’. \n\n\n\nJe ontdekt: \n\n\n\n\nWaarom de meeste staten zich wél aan internationale regels houden\n\n\n\nWat we kunnen leren van 100 jaar vrede- en oorlogsontwikkeling\n\n\n\nHoe vrede geen toeval is\, maar een proces dat wij zelf vormgeven\n\n\n\nEn wat we zelf kunnen doen om bij te dragen aan een vreedzamere wereld\n\n\n\n\nEen verhelderende én bemoedigende lezing\, gebaseerd op recente wetenschappelijke inzichten en met een positieve blik op de wereld van vandaag. \n\n\n\nLaat je meenemen in een verhaal dat hoop biedt – zonder de realiteit uit het oog te verliezen. \n\n\n\nWant: de meeste staten deugen. Echt waar.
URL:https://alkenaer.nl/evenement/gijsbert-van-iterson-scholten-phd-de-meeste-staten-deugen/
CATEGORIES:Cultuur,Filosofie,Lezing
ATTACH;FMTTYPE=image/webp:https://alkenaer.nl/de_alkenaer/wp-content/uploads/2025/08/Gijsbert-van-Iterson-Scholten.webp
END:VEVENT
END:VCALENDAR