BEGIN:VCALENDAR
VERSION:2.0
PRODID:-//De Alkenaer - ECPv6.15.20//NONSGML v1.0//EN
CALSCALE:GREGORIAN
METHOD:PUBLISH
X-ORIGINAL-URL:https://alkenaer.nl
X-WR-CALDESC:Evenementen voor De Alkenaer
REFRESH-INTERVAL;VALUE=DURATION:PT1H
X-Robots-Tag:noindex
X-PUBLISHED-TTL:PT1H
BEGIN:VTIMEZONE
TZID:Europe/Amsterdam
BEGIN:DAYLIGHT
TZOFFSETFROM:+0100
TZOFFSETTO:+0200
TZNAME:CEST
DTSTART:20240331T010000
END:DAYLIGHT
BEGIN:STANDARD
TZOFFSETFROM:+0200
TZOFFSETTO:+0100
TZNAME:CET
DTSTART:20241027T010000
END:STANDARD
BEGIN:DAYLIGHT
TZOFFSETFROM:+0100
TZOFFSETTO:+0200
TZNAME:CEST
DTSTART:20250330T010000
END:DAYLIGHT
BEGIN:STANDARD
TZOFFSETFROM:+0200
TZOFFSETTO:+0100
TZNAME:CET
DTSTART:20251026T010000
END:STANDARD
BEGIN:DAYLIGHT
TZOFFSETFROM:+0100
TZOFFSETTO:+0200
TZNAME:CEST
DTSTART:20260329T010000
END:DAYLIGHT
BEGIN:STANDARD
TZOFFSETFROM:+0200
TZOFFSETTO:+0100
TZNAME:CET
DTSTART:20261025T010000
END:STANDARD
END:VTIMEZONE
BEGIN:VEVENT
DTSTART;TZID=Europe/Amsterdam:20250104T150000
DTEND;TZID=Europe/Amsterdam:20250104T173000
DTSTAMP:20260426T030028
CREATED:20240628T141755Z
LAST-MODIFIED:20250102T103312Z
UID:64201-1736002800-1736011800@alkenaer.nl
SUMMARY:Happy New Year! bij Reuring
DESCRIPTION:Op zaterdag 4 januari gaan we het nieuwe jaar feestelijk inluiden met wel erg veel dichters\, muzikanten en jou! Vandaar dat we een uurtje eerder beginnen. \n\n\n\nVanaf 15.00 uur zijn daar de stadsdichter van Alkmaar\, Lonneke van Heugten\, het Zaans Stadsdichtersgilde met Reinier F. Fosch\, Ellis van Atten\, Jacob Passander\, Hans Kuijper en ons enfant terrible Kees Jan Sierhuis met Co van Assema voor de muzikale begeleiding\, twee keer De Jong uit Leiden\, Bianca Boer\, vader en dochter van Baar en natuurlijk iedereen van De Alkenaer!  \n\n\n\nDit gaat een fantastisch jaar worden! Kom dus ook\, geniet van dit enorme aanbod van cultuur met een grote C en borrel gezellig na om de start van 2025 te vieren. En doe je mee met ‘Dry January’? Er zijn genoeg heerlijke alcoholvrije drankjes te krijgen in De Alkenaer\, dus blijf lekker hangen. \n\n\n\nReuring is een sprankelend eigenwijs literair initiatief van schrijver/dichter Alja Spaan. Het literair platform biedt maandelijks in De Alkenaer gratis een podium aan diverse dichters\, schrijvers\, musici en kunstenaars.
URL:https://alkenaer.nl/evenement/reuring-5/
CATEGORIES:Podium
ATTACH;FMTTYPE=image/png:https://alkenaer.nl/de_alkenaer/wp-content/uploads/2024/06/Reuring04012025_def_inet.png
END:VEVENT
END:VCALENDAR