BEGIN:VCALENDAR
VERSION:2.0
PRODID:-//De Alkenaer - ECPv6.15.20//NONSGML v1.0//EN
CALSCALE:GREGORIAN
METHOD:PUBLISH
X-WR-CALNAME:De Alkenaer
X-ORIGINAL-URL:https://alkenaer.nl
X-WR-CALDESC:Evenementen voor De Alkenaer
REFRESH-INTERVAL;VALUE=DURATION:PT1H
X-Robots-Tag:noindex
X-PUBLISHED-TTL:PT1H
BEGIN:VTIMEZONE
TZID:Europe/Amsterdam
BEGIN:DAYLIGHT
TZOFFSETFROM:+0100
TZOFFSETTO:+0200
TZNAME:CEST
DTSTART:20230326T010000
END:DAYLIGHT
BEGIN:STANDARD
TZOFFSETFROM:+0200
TZOFFSETTO:+0100
TZNAME:CET
DTSTART:20231029T010000
END:STANDARD
BEGIN:DAYLIGHT
TZOFFSETFROM:+0100
TZOFFSETTO:+0200
TZNAME:CEST
DTSTART:20240331T010000
END:DAYLIGHT
BEGIN:STANDARD
TZOFFSETFROM:+0200
TZOFFSETTO:+0100
TZNAME:CET
DTSTART:20241027T010000
END:STANDARD
BEGIN:DAYLIGHT
TZOFFSETFROM:+0100
TZOFFSETTO:+0200
TZNAME:CEST
DTSTART:20250330T010000
END:DAYLIGHT
BEGIN:STANDARD
TZOFFSETFROM:+0200
TZOFFSETTO:+0100
TZNAME:CET
DTSTART:20251026T010000
END:STANDARD
END:VTIMEZONE
BEGIN:VEVENT
DTSTART;TZID=Europe/Amsterdam:20241227T201500
DTEND;TZID=Europe/Amsterdam:20241227T221500
DTSTAMP:20260426T025910
CREATED:20240724T153932Z
LAST-MODIFIED:20241129T132035Z
UID:64196-1735330500-1735337700@alkenaer.nl
SUMMARY:Marie Chaplet / Vive la Chanson!
DESCRIPTION:Afgelopen seizoen kwam ze samen met haar vader Christophe en trad op voor een uitverkochte Alkenaer. De voorstelling werd een groot succes en er was roep om meer Chaplet. Daarom komt Marie speciaal terug met haar eigen programma met chansons\, maar ook eigen werk. \n\n\n\nMarie Chaplet (27) werd geboren in Frankrijk\, heeft een Nederlandse moeder en groeide op in Amsterdam. Ze begon met piano spelen toen ze 4 jaar was en vanaf haar 10e kreeg ze zangles. Als dochter van twee kunstenaars ervoer Marie de financiële en mentale uitdagingen van het kunstenaarsbestaan. Hoewel dit haar aanvankelijk ontmoedigde om meteen haar roeping te volgen\, besloot Marie na haar universitaire opleiding de muziek een echte kans te geven. Evenals haar vader won zij de publieksprijs van het Concours de la Chanson Française in Theater Diligentia in Den Haag. Dat kan geen verrassing zijn geweest\, want wat een stem! Na afloop reisde ze eerst naar New York\, waar ze inspiratie opdeed voor haar zelfgeschreven werk en vestigde zich daarna in Lissabon om operales te volgen onder begeleiding van sopraanzangeres Conceicao Seabra Galante en haar baritonechtgenoot Nuno Vilallonga. Marie Chaplet speelt en zingt van Franse klassiekers tot jazz\, evenals haar zelfgeschreven nummers die liefde\, ontberingen en veerkracht verkennen. Inmiddels toert ze met een soloprogramma door het land en doet dus daarmee ook onze salon aan op 27 december. Voor een piepklein voorproefje: bekijk de trailer . Voor meer Marie kom je natuurlijk naar De Alkenaer! \n\n\n\nFoto: Katya Bezede
URL:https://alkenaer.nl/evenement/marie-chaplet-vive-la-chanson/
CATEGORIES:Concert
ATTACH;FMTTYPE=image/jpeg:https://alkenaer.nl/de_alkenaer/wp-content/uploads/2024/07/DSC00130-scaled.jpg
END:VEVENT
END:VCALENDAR