BEGIN:VCALENDAR
VERSION:2.0
PRODID:-//De Alkenaer - ECPv6.15.20//NONSGML v1.0//EN
CALSCALE:GREGORIAN
METHOD:PUBLISH
X-WR-CALNAME:De Alkenaer
X-ORIGINAL-URL:https://alkenaer.nl
X-WR-CALDESC:Evenementen voor De Alkenaer
REFRESH-INTERVAL;VALUE=DURATION:PT1H
X-Robots-Tag:noindex
X-PUBLISHED-TTL:PT1H
BEGIN:VTIMEZONE
TZID:Europe/Amsterdam
BEGIN:DAYLIGHT
TZOFFSETFROM:+0100
TZOFFSETTO:+0200
TZNAME:CEST
DTSTART:20230326T010000
END:DAYLIGHT
BEGIN:STANDARD
TZOFFSETFROM:+0200
TZOFFSETTO:+0100
TZNAME:CET
DTSTART:20231029T010000
END:STANDARD
BEGIN:DAYLIGHT
TZOFFSETFROM:+0100
TZOFFSETTO:+0200
TZNAME:CEST
DTSTART:20240331T010000
END:DAYLIGHT
BEGIN:STANDARD
TZOFFSETFROM:+0200
TZOFFSETTO:+0100
TZNAME:CET
DTSTART:20241027T010000
END:STANDARD
BEGIN:DAYLIGHT
TZOFFSETFROM:+0100
TZOFFSETTO:+0200
TZNAME:CEST
DTSTART:20250330T010000
END:DAYLIGHT
BEGIN:STANDARD
TZOFFSETFROM:+0200
TZOFFSETTO:+0100
TZNAME:CET
DTSTART:20251026T010000
END:STANDARD
END:VTIMEZONE
BEGIN:VEVENT
DTSTART;TZID=Europe/Amsterdam:20241218T200000
DTEND;TZID=Europe/Amsterdam:20241218T223000
DTSTAMP:20260426T025912
CREATED:20241112T113023Z
LAST-MODIFIED:20241127T093753Z
UID:67772-1734552000-1734561000@alkenaer.nl
SUMMARY:Debat: Mentale gezondheid jongeren
DESCRIPTION:Debat over mentale gezondheid.Ruim één op de drie jongeren heeft mentale problemen. Waar komen deze vandaan en hoe kunnen de politiek en de samenleving ingrijpen om deze beweging om te keren? \n\n\n\nTwee professionals uit het werkveld gaan het gesprek aan met jongeren en het publiek onder begeleiding van moderator Bert de Raaf. \n\n\n\n\nPaul Kreemers – Oprichter van jongereninloop De Pitstop. Jongerenwerker gespecialiseerd in complexe problematiek. \n\n\n\n\n \n\n\n\n\nEren Aydogan – Jongerencoach in omgeving Alkmaar. Geeft cursussen en advies op het gebied van jongerenwerk. \n\n\n\n\n\n\n\n\nGratis toegang
URL:https://alkenaer.nl/evenement/debat-mentale-gezondheid-jongeren/
CATEGORIES:Debat
ATTACH;FMTTYPE=image/png:https://alkenaer.nl/de_alkenaer/wp-content/uploads/2024/06/mentale-gezondheid.png
END:VEVENT
END:VCALENDAR