BEGIN:VCALENDAR
VERSION:2.0
PRODID:-//De Alkenaer - ECPv6.15.20//NONSGML v1.0//EN
CALSCALE:GREGORIAN
METHOD:PUBLISH
X-ORIGINAL-URL:https://alkenaer.nl
X-WR-CALDESC:Evenementen voor De Alkenaer
REFRESH-INTERVAL;VALUE=DURATION:PT1H
X-Robots-Tag:noindex
X-PUBLISHED-TTL:PT1H
BEGIN:VTIMEZONE
TZID:Europe/Amsterdam
BEGIN:DAYLIGHT
TZOFFSETFROM:+0100
TZOFFSETTO:+0200
TZNAME:CEST
DTSTART:20230326T010000
END:DAYLIGHT
BEGIN:STANDARD
TZOFFSETFROM:+0200
TZOFFSETTO:+0100
TZNAME:CET
DTSTART:20231029T010000
END:STANDARD
BEGIN:DAYLIGHT
TZOFFSETFROM:+0100
TZOFFSETTO:+0200
TZNAME:CEST
DTSTART:20240331T010000
END:DAYLIGHT
BEGIN:STANDARD
TZOFFSETFROM:+0200
TZOFFSETTO:+0100
TZNAME:CET
DTSTART:20241027T010000
END:STANDARD
BEGIN:DAYLIGHT
TZOFFSETFROM:+0100
TZOFFSETTO:+0200
TZNAME:CEST
DTSTART:20250330T010000
END:DAYLIGHT
BEGIN:STANDARD
TZOFFSETFROM:+0200
TZOFFSETTO:+0100
TZNAME:CET
DTSTART:20251026T010000
END:STANDARD
END:VTIMEZONE
BEGIN:VEVENT
DTSTART;TZID=Europe/Amsterdam:20241125T193000
DTEND;TZID=Europe/Amsterdam:20241125T220000
DTSTAMP:20260426T000102
CREATED:20241011T113258Z
LAST-MODIFIED:20241031T134442Z
UID:66686-1732563000-1732572000@alkenaer.nl
SUMMARY:Wat gaan we eten?/ Een culinaire avond op topniveau met Topkok Gerard Walters
DESCRIPTION:WAT GAAN WE ETEN? \n\n\n\nDeze vraag is koren op de molen van de bekende topkok Gerard Walters.  \n\n\n\nVerhalen met een mix van humor\, interessante anekdotes en belangrijke thema’s zoals ambachtelijk\, heerlijk gezond eten\, regionale producten en culinaire weetjes.  \n\n\n\nZoals we van deze topkok Gerard gewend zijn wordt het publiek culinair verwend met heerlijke Franse ‘mondvermaakjes’.Gerard Walters’ weg naar de – culinaire – top is vergelijkbaar met die van ‘de krantenjongen’. Hij begon als glazenwasser in sterrenrestaurant ‘de Deijselhof’ en daarna volgde een lange en leerzame weg naar zijn eigen restaurant ‘Akkers’ in Broek op Langedijk\, waar hij 10 jaar lang de scepter zwaaide… Zijn kunde en ervaring werden beloond met een Bib Gourmand en 1 Toque in de Michelin- en Gault Millaugids. \n\n\n\nNa ‘Akkers’ is Gerard een andere weg ingeslagen\, zodat u hem nu bijvoorbeeld in De Alkenaer kunt treffen. Laat u meenemen in de culinaire wereld van nu\, duurzaam\, heerlijk en gezond!Met recht ‘een culinaire avond op topniveau’\, vol smakelijke verhalen\, verbinding\, gerechtjes\, plezier en gastvrijheid! \n\n\n\nVol=vol
URL:https://alkenaer.nl/evenement/wat-gaan-we-eten-een-culinaire-avond-op-topniveau-met-topkok-gerard-walters/
CATEGORIES:Podium
ATTACH;FMTTYPE=image/jpeg:https://alkenaer.nl/de_alkenaer/wp-content/uploads/2024/10/PHOTO-2024-10-07-16-35-43.jpg
END:VEVENT
END:VCALENDAR