BEGIN:VCALENDAR
VERSION:2.0
PRODID:-//De Alkenaer - ECPv6.15.20//NONSGML v1.0//EN
CALSCALE:GREGORIAN
METHOD:PUBLISH
X-WR-CALNAME:De Alkenaer
X-ORIGINAL-URL:https://alkenaer.nl
X-WR-CALDESC:Evenementen voor De Alkenaer
REFRESH-INTERVAL;VALUE=DURATION:PT1H
X-Robots-Tag:noindex
X-PUBLISHED-TTL:PT1H
BEGIN:VTIMEZONE
TZID:Europe/Amsterdam
BEGIN:DAYLIGHT
TZOFFSETFROM:+0100
TZOFFSETTO:+0200
TZNAME:CEST
DTSTART:20230326T010000
END:DAYLIGHT
BEGIN:STANDARD
TZOFFSETFROM:+0200
TZOFFSETTO:+0100
TZNAME:CET
DTSTART:20231029T010000
END:STANDARD
BEGIN:DAYLIGHT
TZOFFSETFROM:+0100
TZOFFSETTO:+0200
TZNAME:CEST
DTSTART:20240331T010000
END:DAYLIGHT
BEGIN:STANDARD
TZOFFSETFROM:+0200
TZOFFSETTO:+0100
TZNAME:CET
DTSTART:20241027T010000
END:STANDARD
BEGIN:DAYLIGHT
TZOFFSETFROM:+0100
TZOFFSETTO:+0200
TZNAME:CEST
DTSTART:20250330T010000
END:DAYLIGHT
BEGIN:STANDARD
TZOFFSETFROM:+0200
TZOFFSETTO:+0100
TZNAME:CET
DTSTART:20251026T010000
END:STANDARD
END:VTIMEZONE
BEGIN:VEVENT
DTSTART;TZID=Europe/Amsterdam:20241123T201500
DTEND;TZID=Europe/Amsterdam:20241123T223000
DTSTAMP:20260425T235244
CREATED:20241024T144622Z
LAST-MODIFIED:20241031T113506Z
UID:67334-1732392900-1732401000@alkenaer.nl
SUMMARY:Bender speelt ´Nooit Weggeweest´
DESCRIPTION:Op zaterdagavond 23 november 2024 komt Bender op bezoek in de Alkenaer. Na een korteperiode van stilte is de Nederlandstalige band weer helemaal terug op het podium met hetliedjesprogramma ‘Nooit weggeweest’. \n\n\n\nDe muziek en de teksten van Bender gaan veelal over de verwarrende tijd waarin wij leven.Maar ook over de mooie dingen die dagelijks te ontdekken zijn. Vaak wordt de muziek vanBender vergeleken met de muziek van Stef Bos\, Alex Roeka en Cornelis Vreeswijk. \n\n\n\nZanger en liedschrijver Bert Vissers: “we reizen al heel wat jaren langs de theaters inNederland en gaan dus al een tijdje mee. Wat ik mooi vind is dat we meer en meer reactieskrijgen van twintigers en dertigers op onze liedjes. Kennelijk spreekt onze muziek hen ooksteeds meer aan. Daar ben ik blij mee. En ik kan het me ook goed voorstellen: meerdereliedjes die we nu nog zingen heb ik als twintiger geschreven’. \n\n\n\nIn maart jl. heeft Bender In samenwerking met kunstenares Christel Bouwmeester-Wassenaar de single én videoanimatie ‘De wereld is je niet vergeten\, vriend’ uitgebracht\,waarmee zij als makers aandacht vragen voor de vele (anonieme) burgers\, schrijvers enjournalisten die zich geweldloos verzetten tegen ondemocratische dictatoriale regimes\,overal in de wereld. \n\n\n\nVideo ‘De wereld is je niet vergeten\, vriend’ \n\n\n\nEn heel recent\, op 26 oktober jl. heeft Bender de nieuwe single ‘Dankbaar tevreden’gepresenteerd in Theater de Liefde in Haarlem als voorloper op de nieuwe EP diehalverwege november zal uitkomen. \n\n\n\nBender bestaat uit Jan Rooijmans (gitaar)\, Boris Vissers (piano)\, Jos Caspers (contrabas) enBert Vissers (zang\, gitaar). \n\n\n\nMeer weten en luisteren van Bender? Zie: www.bendermuziek.nl  en Bender op Spotify.
URL:https://alkenaer.nl/evenement/bender-treedt-op/
CATEGORIES:Concert
ATTACH;FMTTYPE=image/jpeg:https://alkenaer.nl/de_alkenaer/wp-content/uploads/2024/10/Foto-bender-de-vier-benders.jpg
END:VEVENT
END:VCALENDAR