BEGIN:VCALENDAR
VERSION:2.0
PRODID:-//De Alkenaer - ECPv6.15.20//NONSGML v1.0//EN
CALSCALE:GREGORIAN
METHOD:PUBLISH
X-WR-CALNAME:De Alkenaer
X-ORIGINAL-URL:https://alkenaer.nl
X-WR-CALDESC:Evenementen voor De Alkenaer
REFRESH-INTERVAL;VALUE=DURATION:PT1H
X-Robots-Tag:noindex
X-PUBLISHED-TTL:PT1H
BEGIN:VTIMEZONE
TZID:Europe/Amsterdam
BEGIN:DAYLIGHT
TZOFFSETFROM:+0100
TZOFFSETTO:+0200
TZNAME:CEST
DTSTART:20230326T010000
END:DAYLIGHT
BEGIN:STANDARD
TZOFFSETFROM:+0200
TZOFFSETTO:+0100
TZNAME:CET
DTSTART:20231029T010000
END:STANDARD
BEGIN:DAYLIGHT
TZOFFSETFROM:+0100
TZOFFSETTO:+0200
TZNAME:CEST
DTSTART:20240331T010000
END:DAYLIGHT
BEGIN:STANDARD
TZOFFSETFROM:+0200
TZOFFSETTO:+0100
TZNAME:CET
DTSTART:20241027T010000
END:STANDARD
BEGIN:DAYLIGHT
TZOFFSETFROM:+0100
TZOFFSETTO:+0200
TZNAME:CEST
DTSTART:20250330T010000
END:DAYLIGHT
BEGIN:STANDARD
TZOFFSETFROM:+0200
TZOFFSETTO:+0100
TZNAME:CET
DTSTART:20251026T010000
END:STANDARD
END:VTIMEZONE
BEGIN:VEVENT
DTSTART;TZID=Europe/Amsterdam:20241110T150000
DTEND;TZID=Europe/Amsterdam:20241110T170000
DTSTAMP:20260425T235245
CREATED:20241024T124953Z
LAST-MODIFIED:20241024T132449Z
UID:67305-1731250800-1731258000@alkenaer.nl
SUMMARY:Nico Keuning over Belcampo
DESCRIPTION:BELCAMPO VORMT IN ZIJN EENTJE EIGENLIJK EEN APARTE LITERAIRE STROMING \n\n\n\nOp 10 november komt Nico Keuning (Elten\, 1952) naar De Alkenaer om te  praten over zijn biografie ‘Groots en onbekommerd. Leven en werk van Belcampo’. \n\n\n\nBelcampo is het pseudoniem van Herman Pieter Schönfeld Wichers (21-07-1902) en werd in Naarden geboren. Later verhuisde hij met zijn familie naar Rijssen\, waar zijn vader notaris werd. Herman studeerde medicijnen\, rechten en dan weer medicijnen. Tussendoor heeft hij veel gezworven door Europa. Hij betaalde zijn reizen met het maken van portretten. \n\n\n\nIn 1934 publiceerde hij in eigen beheer de bundel Verhalen onder het pseudoniem Belcampo. Hoewel deze bundel niet veel aandacht kreeg was zijn opvolger De zwerftocht van Belcampo uit 1938 wel succesvol. Fantasieverhalen zijn vooral kenmerkend voor Belcampo. \n\n\n\nIn De filosofie van het Belcampisme legt hij zijn wereldbeeld uit. Er bestaan heel veel werkelijkheden en onze wereld kan geleidelijk overgaan in een andere. \n\n\n\nKortom\, het werk van Belcampo maakt nieuwsgierig. Nico Keuning neemt ons deze middag mee langs Belcampo’s fantasieën en uiteraard vertelt hij over het spannende leven van Belcampo waarover hijzelf niet zo mededeelzaam was.  Nico Keuning heeft daarvoor honderden brieven gelezen. \n\n\n\nHet is niet de eerste biografie die Keuning geschreven heeft. Ook van Jan Arends\, Max de Jong\, Bob den Uyl en Willem Brakman heeft hij de levens beschreven. Monografieën zijn er van zijn hand over Johnny van Doorn en Louis-Ferdinand Céline. Verder schrijft hij in literaire tijdschriften\, en dag- en maandbladen. In Het geheim van de Ventoux fietst hij in binnen- en buitenland in de sporen van schrijvers. \n\n\n\nVan der Meulen’s Boekhandel is in De Alkenaer aanwezig met boeken van Nico Keuning. In de pauze en na afloop is er gelegenheid deze aan te schaffen en eventueel te laten signeren door de auteur.
URL:https://alkenaer.nl/evenement/nico-keuning-over-belcampo/
CATEGORIES:Lezing
ATTACH;FMTTYPE=image/jpeg:https://alkenaer.nl/de_alkenaer/wp-content/uploads/2024/06/Nico-Keuning-scaled.jpeg
END:VEVENT
END:VCALENDAR