BEGIN:VCALENDAR
VERSION:2.0
PRODID:-//De Alkenaer - ECPv6.15.20//NONSGML v1.0//EN
CALSCALE:GREGORIAN
METHOD:PUBLISH
X-WR-CALNAME:De Alkenaer
X-ORIGINAL-URL:https://alkenaer.nl
X-WR-CALDESC:Evenementen voor De Alkenaer
REFRESH-INTERVAL;VALUE=DURATION:PT1H
X-Robots-Tag:noindex
X-PUBLISHED-TTL:PT1H
BEGIN:VTIMEZONE
TZID:Europe/Amsterdam
BEGIN:DAYLIGHT
TZOFFSETFROM:+0100
TZOFFSETTO:+0200
TZNAME:CEST
DTSTART:20230326T010000
END:DAYLIGHT
BEGIN:STANDARD
TZOFFSETFROM:+0200
TZOFFSETTO:+0100
TZNAME:CET
DTSTART:20231029T010000
END:STANDARD
BEGIN:DAYLIGHT
TZOFFSETFROM:+0100
TZOFFSETTO:+0200
TZNAME:CEST
DTSTART:20240331T010000
END:DAYLIGHT
BEGIN:STANDARD
TZOFFSETFROM:+0200
TZOFFSETTO:+0100
TZNAME:CET
DTSTART:20241027T010000
END:STANDARD
BEGIN:DAYLIGHT
TZOFFSETFROM:+0100
TZOFFSETTO:+0200
TZNAME:CEST
DTSTART:20250330T010000
END:DAYLIGHT
BEGIN:STANDARD
TZOFFSETFROM:+0200
TZOFFSETTO:+0100
TZNAME:CET
DTSTART:20251026T010000
END:STANDARD
END:VTIMEZONE
BEGIN:VEVENT
DTSTART;TZID=Europe/Amsterdam:20241107T200000
DTEND;TZID=Europe/Amsterdam:20241107T223000
DTSTAMP:20260426T012211
CREATED:20241024T112903Z
LAST-MODIFIED:20241024T112905Z
UID:67293-1731009600-1731018600@alkenaer.nl
SUMMARY:Documentaire Push
DESCRIPTION:Als vervolg op het debat ‘Woningcrisis’ van 17 oktober 2024 is deze documentaire een toepasselijke aanvulling. In veel grote steden is gentrificatie een fataal fenomeen: een voormalige rotwijk wordt een topbuurt\, waarna de oorspronkelijke bewoners geleidelijk worden verdreven door stijgende woningprijzen. Zijn het alleen de nieuwe\, rijke bewoners die de prijzen opdrijven of is er meer aan de hand? \n\n\n\nInhoud: In steden over de hele wereld stijgen de huurprijzen explosief\, maar de inkomens blijven achter. De documentaire Push van Fredrik Gertten (2019) schijnt haar licht op de ‘Anonieme huisbaas’\, de steden die steeds meer onbewoonbaar worden en de uit de hand lopende huizencrisis\, waar we allemaal de effecten van merken.  Het is geen ‘gentrification’ het is een monster. \n\n\n\nDe film volgt Leilani Farha\, speciaal rapporteur voor passende huisvesting van de Verenigde Naties. Leilana reist de wereld rond om te begrijpen wie door dit nieuwe fenomeen uit steden worden ‘geduwd’ en waarom. “Er is een groot verschil tussen woningen als handelswaar en goud als handelswaar. Goud is geen mensenrecht\, huisvesting wel” aldus Leilani. \n\n\n\n*Documentaire Push brengt in beeld hoe torenhoge prijzen bewoners uit de grote steden duwen.             De Volkskrant \n\n\n\nFredrik Gertten (1956) is een Zweedse filmmaker\, producer en journalist\, die al meerdere prijzen voor zijn documentaires mocht ontvangen en is vooral bekend van documentaires die mondiale patronen van kleptocratie\, lobbyisme\, financialisering en extractivisme onderzoeken. Ook zijn documentaire ‘Push’ is meermaals bekroond. Andere titels: Becoming Zlatan\, Bikes vs Cars en Bananas*!. \n\n\n\nEen documentaire kijken in De Alkenaer is niet alleen een documentaire kijken. \n\n\n\nDeze keer is Jan Deursen\,  afkomstig uit Alkmaar en sinds 2021 werkzaam als Adviseur Wonen bij Companen (Arnhem)\, onze speciale gast. \n\n\n\n \n\n\n\nJan is sociaal geograaf en heeft jarenlang in Toronto gewerkt en gewoond. Als consultant heeft hij de lokale overheid van Toronto en de gemeente Den Haag onder andere geholpen bij het ontwikkelen van een lange termijnstrategie voor het behoud van betaalbare woningen.  Jan is goed in staat om de huidige ontwikkelingen in de woningmarkt te duidden en heeft een visie hoe de gemeente Alkmaar een inclusieve stad kan blijven waar iedereen (betaalbaar) kan wonen. Jan doet momenteel onderzoek doet naar geschikte locaties voor ouderenhuisvesting in de gemeente Dijk en Waard. \n\n\n\nNa afloop van de documentaire gaat Daphne Adrichem\, journalist (AT5) en dichter in gesprek met het publiek en met Jan van Deursen over de documentaire en hoe deze moet worden gezien in het licht van de problematiek in Nederland en de regio Alkmaar in het bijzonder. \n\n\n\nMede mogelijk gemaakt door het Victoriefonds.
URL:https://alkenaer.nl/evenement/documentaire-push/
CATEGORIES:Documentaire
ATTACH;FMTTYPE=image/png:https://alkenaer.nl/de_alkenaer/wp-content/uploads/2024/10/Push-docu.png
END:VEVENT
END:VCALENDAR