BEGIN:VCALENDAR
VERSION:2.0
PRODID:-//De Alkenaer - ECPv6.15.20//NONSGML v1.0//EN
CALSCALE:GREGORIAN
METHOD:PUBLISH
X-WR-CALNAME:De Alkenaer
X-ORIGINAL-URL:https://alkenaer.nl
X-WR-CALDESC:Evenementen voor De Alkenaer
REFRESH-INTERVAL;VALUE=DURATION:PT1H
X-Robots-Tag:noindex
X-PUBLISHED-TTL:PT1H
BEGIN:VTIMEZONE
TZID:Europe/Amsterdam
BEGIN:DAYLIGHT
TZOFFSETFROM:+0100
TZOFFSETTO:+0200
TZNAME:CEST
DTSTART:20230326T010000
END:DAYLIGHT
BEGIN:STANDARD
TZOFFSETFROM:+0200
TZOFFSETTO:+0100
TZNAME:CET
DTSTART:20231029T010000
END:STANDARD
BEGIN:DAYLIGHT
TZOFFSETFROM:+0100
TZOFFSETTO:+0200
TZNAME:CEST
DTSTART:20240331T010000
END:DAYLIGHT
BEGIN:STANDARD
TZOFFSETFROM:+0200
TZOFFSETTO:+0100
TZNAME:CET
DTSTART:20241027T010000
END:STANDARD
BEGIN:DAYLIGHT
TZOFFSETFROM:+0100
TZOFFSETTO:+0200
TZNAME:CEST
DTSTART:20250330T010000
END:DAYLIGHT
BEGIN:STANDARD
TZOFFSETFROM:+0200
TZOFFSETTO:+0100
TZNAME:CET
DTSTART:20251026T010000
END:STANDARD
END:VTIMEZONE
BEGIN:VEVENT
DTSTART;TZID=Europe/Amsterdam:20241106T201500
DTEND;TZID=Europe/Amsterdam:20241106T223000
DTSTAMP:20260425T235240
CREATED:20240810T105002Z
LAST-MODIFIED:20241011T121817Z
UID:65189-1730924100-1730932200@alkenaer.nl
SUMMARY:Proest! Kleinkunst\, comedy en cabaret (Serie)
DESCRIPTION:Deze avond treden op: \n\n\n\n– Roos Vervelde (finalist Griffioen de Stoep Cabaret Festival)  \n\n\n\n– Farida Laan ( winnaar van de Shaffy Cheque 2021. een aanmoedigingsprijs die beschikbaar wordt gesteld door het Ramses Shaffy Fonds) \n\n\n\n– Lotte Velvet (winnaar Amsterdams Kleinkunst Festival 2020)  \n\n\n\nEen serie van cabaretavonden waarbij steeds drie jonge\, talentvolle cabaretiers/kleinkunstenaars een optreden doen van ca. 20 minuten met hun nieuwste werk. Dit programma wordt samengesteld en gepresenteerd door de Alkmaarse cabaretier Luuk Ransijn. Dus kom en maak kennis met de toppers van de toekomst! \n\n\n\nProest! wordt mede mogelijk gemaakt door ‘Impuls Jongerencultuur’ van de Gemeente Alkmaar. \n\n\n\n* Eerder stond ook een optreden van Boban Braspenning op deze avond gepland\, dit is echter verplaatst naar 4 december.
URL:https://alkenaer.nl/evenement/proest-2/
CATEGORIES:Cabaret
ATTACH;FMTTYPE=image/png:https://alkenaer.nl/de_alkenaer/wp-content/uploads/2024/08/november-def-1.png
END:VEVENT
END:VCALENDAR