BEGIN:VCALENDAR
VERSION:2.0
PRODID:-//De Alkenaer - ECPv6.15.20//NONSGML v1.0//EN
CALSCALE:GREGORIAN
METHOD:PUBLISH
X-ORIGINAL-URL:https://alkenaer.nl
X-WR-CALDESC:Evenementen voor De Alkenaer
REFRESH-INTERVAL;VALUE=DURATION:PT1H
X-Robots-Tag:noindex
X-PUBLISHED-TTL:PT1H
BEGIN:VTIMEZONE
TZID:Europe/Amsterdam
BEGIN:DAYLIGHT
TZOFFSETFROM:+0100
TZOFFSETTO:+0200
TZNAME:CEST
DTSTART:20230326T010000
END:DAYLIGHT
BEGIN:STANDARD
TZOFFSETFROM:+0200
TZOFFSETTO:+0100
TZNAME:CET
DTSTART:20231029T010000
END:STANDARD
BEGIN:DAYLIGHT
TZOFFSETFROM:+0100
TZOFFSETTO:+0200
TZNAME:CEST
DTSTART:20240331T010000
END:DAYLIGHT
BEGIN:STANDARD
TZOFFSETFROM:+0200
TZOFFSETTO:+0100
TZNAME:CET
DTSTART:20241027T010000
END:STANDARD
BEGIN:DAYLIGHT
TZOFFSETFROM:+0100
TZOFFSETTO:+0200
TZNAME:CEST
DTSTART:20250330T010000
END:DAYLIGHT
BEGIN:STANDARD
TZOFFSETFROM:+0200
TZOFFSETTO:+0100
TZNAME:CET
DTSTART:20251026T010000
END:STANDARD
END:VTIMEZONE
BEGIN:VEVENT
DTSTART;TZID=Europe/Amsterdam:20241024T190000
DTEND;TZID=Europe/Amsterdam:20241024T214500
DTSTAMP:20260425T221541
CREATED:20241008T091557Z
LAST-MODIFIED:20241008T103154Z
UID:66530-1729796400-1729806300@alkenaer.nl
SUMMARY:'Je kan er oud mee worden'/Arjen Buringa en Diabetesvereniging Nederland
DESCRIPTION:In samenwerking met schrijver Arjen Buringa organiseert Diabetesvereniging Nederland  een voorlichtingsbijeenkomst “Wat is diabetes? met aansluitend een lezing ‘50 jaar diabetes\, een halve eeuw balanceren!’ \n\n\n\nTijdens deze informatiebijeenkomst wordt uitleg gegeven over: \n\n\n\n\nWat is diabetes en welke signalen horen daarbij?\n\n\n\nHoe kun je zorgen voor een gezonde bloedsuikerspiegel? (Alvleesklier\, insuline\, koolhydraten\, complicaties\, progressieve ziekte)\n\n\n\nWat is diabetes type 1 en diabetes type 2 precies en wat is het verschil?\n\n\n\n\nDaarna volgt een lezing van de Alkmaarse auteur Arjen Buringa (1958). Hij kreeg op jonge leeftijd te horen dat hij diabetes had. Deze chronische ziekte zou zijn leven drastisch veranderen. De ziekte had niet alleen impact op hem\, maar ook op dat van zijn ouders en omgeving. Hoe kijkt hij daar na 50 jaar op terug? Hij schreef er een boek over ‘Je kan er oud mee worden\, leven met een chronische ziekte’. \n\n\n\nJe wordt verwelkomd met een lekkere smoothie en in de pauze kan je genieten van een heerlijk gezond chocolade lekkernijtje.  \n\n\n\nProgramma op donderdag 24 oktober a.s. \n\n\n\n18.30 uur Inloop \n\n\n\n19.00 -20.00 uur Voorlichting Diabetesvereniging Nederland \n\n\n\nPresentatie door Kees Baaij en Hans Gitsels \n\n\n\n20.00 – 20.20 uur Pauze: (20 minuten) \n\n\n\n20.20 – 21.20 uur Lezing Arjen Buringa \n\n\n\nNa afloop signeersessie \n\n\n\nDe toegang is gratis\, maar wel moet je je vooraf even aanmelden via deze link.
URL:https://alkenaer.nl/evenement/je-kan-er-oud-mee-worden-arjen-buringa-en-diabetesvereniging-nederland/
CATEGORIES:Lezing
ATTACH;FMTTYPE=image/jpeg:https://alkenaer.nl/de_alkenaer/wp-content/uploads/2024/10/Arjen-Buringa-auteur-scaled.jpg
END:VEVENT
END:VCALENDAR