BEGIN:VCALENDAR
VERSION:2.0
PRODID:-//De Alkenaer - ECPv6.15.20//NONSGML v1.0//EN
CALSCALE:GREGORIAN
METHOD:PUBLISH
X-ORIGINAL-URL:https://alkenaer.nl
X-WR-CALDESC:Evenementen voor De Alkenaer
REFRESH-INTERVAL;VALUE=DURATION:PT1H
X-Robots-Tag:noindex
X-PUBLISHED-TTL:PT1H
BEGIN:VTIMEZONE
TZID:Europe/Amsterdam
BEGIN:DAYLIGHT
TZOFFSETFROM:+0100
TZOFFSETTO:+0200
TZNAME:CEST
DTSTART:20230326T010000
END:DAYLIGHT
BEGIN:STANDARD
TZOFFSETFROM:+0200
TZOFFSETTO:+0100
TZNAME:CET
DTSTART:20231029T010000
END:STANDARD
BEGIN:DAYLIGHT
TZOFFSETFROM:+0100
TZOFFSETTO:+0200
TZNAME:CEST
DTSTART:20240331T010000
END:DAYLIGHT
BEGIN:STANDARD
TZOFFSETFROM:+0200
TZOFFSETTO:+0100
TZNAME:CET
DTSTART:20241027T010000
END:STANDARD
BEGIN:DAYLIGHT
TZOFFSETFROM:+0100
TZOFFSETTO:+0200
TZNAME:CEST
DTSTART:20250330T010000
END:DAYLIGHT
BEGIN:STANDARD
TZOFFSETFROM:+0200
TZOFFSETTO:+0100
TZNAME:CET
DTSTART:20251026T010000
END:STANDARD
END:VTIMEZONE
BEGIN:VEVENT
DTSTART;TZID=Europe/Amsterdam:20241020T134500
DTEND;TZID=Europe/Amsterdam:20241020T153000
DTSTAMP:20260425T221544
CREATED:20240628T102557Z
LAST-MODIFIED:20241013T122936Z
UID:64100-1729431900-1729438200@alkenaer.nl
SUMMARY:Firma Frictie / Vest in de Stad
DESCRIPTION:Voorstellingen op diverse plaatsen in Alkmaar\, óók in De Alkenaer.  Op ons podium wordt ruimte gemaakt voor Firma Frictie met de theatervoorstelling ‘Kan het wat stiller’ \n\n\n\n2 Voorstellingen \n\n\n\nMet een goede dosis zelfspot en zonder zichzelf te sparen gaan theatermakers Stella en Lusanne op stilteretraite. Samen met ene Simon\, die zij ook nog nooit hebben ontmoet\, even weg van de wereld die weer op volle toeren draait. Op zoek naar de magie van stilte. Maar in plaats van rustig en ontprikkeld\, worden ze ongemakkelijk\, doodsbang en compleet gek. Voor Stella en Lusanne genoeg reden om de hele ervaring met jou nog eens dunnetjes over te doen. \n\n\n\nWelkom bij ‘Kan het wat stiller’. Een kakofonie van stilte. \n\n\n\nRecensie Theaterkrant\n\n\n\n\n“De theatrale stilteretraite ‘Kan het wat stiller’ is een volvette\, en op momenten lekker luidruchtige satire\, die na alle ongein zowaar uitmondt in een mooi\, eenvoudig moment van stilte.”
URL:https://alkenaer.nl/evenement/vest-in-de-stad/
ATTACH;FMTTYPE=image/png:https://alkenaer.nl/de_alkenaer/wp-content/uploads/2024/06/Firma-Frictie.png
END:VEVENT
BEGIN:VEVENT
DTSTART;TZID=Europe/Amsterdam:20241020T160000
DTEND;TZID=Europe/Amsterdam:20241020T180000
DTSTAMP:20260425T221544
CREATED:20240628T103653Z
LAST-MODIFIED:20240712T105948Z
UID:64102-1729440000-1729447200@alkenaer.nl
SUMMARY:Spraakmakers: Jaap Cohen
DESCRIPTION:HOU EENS OP\, MAN\, WAT SCHIET JE NOU OP MET AL DIE BELEDIGINGEN? \n\n\n\nDat is wat Jaap Cohen (1980) regelmatig dacht\, toen hij bezig was aan de biografie van Theo van Gogh ‘De Bolle Gogh’. Zeven jaar heeft de zoon van Job Cohen gedaan over deze levensbeschrijving. Die is dan ook 700 bladzijden dik. Cohen voerde 150 gesprekken\, las honderden interviews en brieven. Geïnterviewden waren niet altijd happig op een gesprek\, hij had veel overtuigingskracht nodig. “Van Gogh was een raadselachtige persoonlijkheid.” Jaap Cohen zal het hebben over de rode draad in zijn boek: Hoe kunnen zoveel haat en zoveel empathie in één persoon verenigd zijn? \n\n\n\nBij het schrijven van zijn biografie kon Cohen rekenen op ruimhartige medewerking van de familie Van Gogh – geen vanzelfsprekendheid bij dit genre. Hij had hen overtuigd dat het niet zijn doel was te oordelen over Theo\, maar te proberen ‘zijn uitzonderlijke en in veel opzichten paradoxale persoonlijkheid te doorgronden’\, schrijft hij in zijn proloog. \n\n\n\n“Ik heb een nogal roerig leven geleid\, met te veel drank en drugs\, hoewel ook veel aardigheid ondervonden en gelachen.” \n\n\n\n– Theo van Gogh (1957-2004) aan een penvriendin\, vijf weken voor zijn dood. \n\n\n\nOpgegroeid in een welgesteld Wassenaars milieu\, ontwikkelde Theo van Gogh zich in korte tijd tot de meest controversiële opiniemaker van Nederland. Als cineast\, columnist en ‘predikant van de nihilistische gemeente’ stond hij garant voor tumult. Hij bespotte de exploitatie van  (oorlogs)leed en bestempelde de islam tot een bedreiging van de vrije westerse waarden. De belediging had hij tot kunst verheven. \n\n\n\nTegelijkertijd onderhield Van Gogh een enorm netwerk aan vrienden. Acteurs en actrices liepen met hem weg. En hij was een ontwapenende interviewer\, die via ‘prettige gesprekken’ antwoord probeerde te krijgen op de levensvragen waarmee hij zelf worstelde. \n\n\n\nWaar kwam Van Goghs onstilbare zucht tot beledigen vandaan? In hoeverre speelden de oorlogsgeschiedenis van zijn ouders en zijn afstamming van de beroemde schilder een rol? Jaap Cohen sprak meer dan 150 familieleden\, collega’s\, vrienden én vijanden over een raadselachtige persoonlijkheid\, die – overal waar hij kwam verwarring stichtte – totdat hij bruut werd vermoord. (Van: Querido) \n\n\n\nJaap Cohen is historicus en schrijver. Hij promoveerde in 2015 cum laude op ‘De onontkoombare afkomst van Eili d’Oliveira\, een studie over vier eeuwen geschiedenis van de Portugees-Joodse familie D’Oliveira.’ Ook heeft hij gewerkt als onderzoeker bij het Niod. En hij is lid van de Restitutiecommissie\, die verzoeken beoordeelt over teruggave van nazi-roofkunst. \n\n\n\nOp 20 oktober zal Jaap Cohen vertellen over zijn zoektocht naar de onbegrijpelijke(?) persoonlijkheid van van Gogh.
URL:https://alkenaer.nl/evenement/spraakmakers-jaap-cohen/
CATEGORIES:Podium
ATTACH;FMTTYPE=image/png:https://alkenaer.nl/de_alkenaer/wp-content/uploads/2024/06/jaap-cohen.png
END:VEVENT
END:VCALENDAR