BEGIN:VCALENDAR
VERSION:2.0
PRODID:-//De Alkenaer - ECPv6.15.20//NONSGML v1.0//EN
CALSCALE:GREGORIAN
METHOD:PUBLISH
X-ORIGINAL-URL:https://alkenaer.nl
X-WR-CALDESC:Evenementen voor De Alkenaer
REFRESH-INTERVAL;VALUE=DURATION:PT1H
X-Robots-Tag:noindex
X-PUBLISHED-TTL:PT1H
BEGIN:VTIMEZONE
TZID:Europe/Amsterdam
BEGIN:DAYLIGHT
TZOFFSETFROM:+0100
TZOFFSETTO:+0200
TZNAME:CEST
DTSTART:20230326T010000
END:DAYLIGHT
BEGIN:STANDARD
TZOFFSETFROM:+0200
TZOFFSETTO:+0100
TZNAME:CET
DTSTART:20231029T010000
END:STANDARD
BEGIN:DAYLIGHT
TZOFFSETFROM:+0100
TZOFFSETTO:+0200
TZNAME:CEST
DTSTART:20240331T010000
END:DAYLIGHT
BEGIN:STANDARD
TZOFFSETFROM:+0200
TZOFFSETTO:+0100
TZNAME:CET
DTSTART:20241027T010000
END:STANDARD
BEGIN:DAYLIGHT
TZOFFSETFROM:+0100
TZOFFSETTO:+0200
TZNAME:CEST
DTSTART:20250330T010000
END:DAYLIGHT
BEGIN:STANDARD
TZOFFSETFROM:+0200
TZOFFSETTO:+0100
TZNAME:CET
DTSTART:20251026T010000
END:STANDARD
END:VTIMEZONE
BEGIN:VEVENT
DTSTART;TZID=Europe/Amsterdam:20241017T200000
DTEND;TZID=Europe/Amsterdam:20241017T220000
DTSTAMP:20260425T221526
CREATED:20240628T101627Z
LAST-MODIFIED:20241128T151203Z
UID:64096-1729195200-1729202400@alkenaer.nl
SUMMARY:Woningcrisis (Jongeren)debat (serie)
DESCRIPTION:a \n\n\n\nDiepgaand debat over de woningcrisis. \n\n\n\nDat het een groot drama is van deze tijd hoeft niet meer gezegd te worden. Veel jongeren moeten jaren langer bij hun ouders wonen\, worstelen met met de hoge kosten van wonen\, de beperkte (of geen) beschikbaarheid van betaalbare huizen en de psychologische last van een onzekere toekomst. Want hoe kan je je ontwikkelen als je maar niet verder komt? \n\n\n\nHoe kunnen we starters een betere kans op de woningmarkt geven? Dit en de negatieve effecten van de woningcrisis op jongeren zijn onder andere de thema’s tijdens het eerste debat van ons nieuwe seizoen.  \n\n\n\nAan de grote tafel worden de plaatsen ingenomen door (v.l.n.r. op de foto): \n\n\n\n\nMonique Stam\, voorzitter van Woon Gangmakers: een netwerkorganisatie die zich inzet voor de versnelling van de woningbouw. Hiervoor werkte zij als lokaal politicus en wethouder van de gemeente Heerhugowaard.\n\n\n\nFeiko van der Veen\, socioloog en 10 jaar werkzaam geweest als gemeenteraadslid op het gebied van woningbouw in Alkmaar. Hij geeft cursussen over de woningcrisis.\n\n\n\nJulia Osendarp\, zelfstandig journaliste. Voor het Noordhollands Dagblad schreef zij een reeks artikelen over woningzoekenden.\n\n\n\nFinn Langenberg\, Alkmaarder en woningzoekende in de stad.\n\n\n\nNicole van Wijk\, bestuurder van stichting Woonwaard Noord-Kennemerland.\n\n\n\n\nKom meepraten\, meedenken\, stel je vragen\, deel je ervaringen en lanceer je ideeën! \n\n\n\n \n\n\n\nMede mogelijk gemaakt door ‘Impuls Jongerencultuur’ van de Gemeente Alkmaar.
URL:https://alkenaer.nl/evenement/debat-woningcrisis/
CATEGORIES:Debat
END:VEVENT
END:VCALENDAR