BEGIN:VCALENDAR
VERSION:2.0
PRODID:-//De Alkenaer - ECPv6.15.20//NONSGML v1.0//EN
CALSCALE:GREGORIAN
METHOD:PUBLISH
X-WR-CALNAME:De Alkenaer
X-ORIGINAL-URL:https://alkenaer.nl
X-WR-CALDESC:Evenementen voor De Alkenaer
REFRESH-INTERVAL;VALUE=DURATION:PT1H
X-Robots-Tag:noindex
X-PUBLISHED-TTL:PT1H
BEGIN:VTIMEZONE
TZID:Europe/Amsterdam
BEGIN:DAYLIGHT
TZOFFSETFROM:+0100
TZOFFSETTO:+0200
TZNAME:CEST
DTSTART:20230326T010000
END:DAYLIGHT
BEGIN:STANDARD
TZOFFSETFROM:+0200
TZOFFSETTO:+0100
TZNAME:CET
DTSTART:20231029T010000
END:STANDARD
BEGIN:DAYLIGHT
TZOFFSETFROM:+0100
TZOFFSETTO:+0200
TZNAME:CEST
DTSTART:20240331T010000
END:DAYLIGHT
BEGIN:STANDARD
TZOFFSETFROM:+0200
TZOFFSETTO:+0100
TZNAME:CET
DTSTART:20241027T010000
END:STANDARD
BEGIN:DAYLIGHT
TZOFFSETFROM:+0100
TZOFFSETTO:+0200
TZNAME:CEST
DTSTART:20250330T010000
END:DAYLIGHT
BEGIN:STANDARD
TZOFFSETFROM:+0200
TZOFFSETTO:+0100
TZNAME:CET
DTSTART:20251026T010000
END:STANDARD
END:VTIMEZONE
BEGIN:VEVENT
DTSTART;TZID=Europe/Amsterdam:20240706T160000
DTEND;TZID=Europe/Amsterdam:20240706T173000
DTSTAMP:20260426T025745
CREATED:20240629T094514Z
LAST-MODIFIED:20240629T094516Z
UID:64237-1720281600-1720287000@alkenaer.nl
SUMMARY:Reuring trekt de deur dicht
DESCRIPTION:Nog één keer wordt er flink Reuring gemaakt in De Alkenaer. \n\n\n\nDe reislustige dichter\, schrijver en levensgenieter Peter Gieselaar met zijn nieuwste werk ‘Autoweg naar toen’ neemt je mee op reis naar…\, ja waarheen eigenlijk\, in ieder geval naar ergens in toen. Wie de zaal altijd helemaal op zijn kop zet\, is dichter Kees-Jan Sierhuis. De voormalig stadsdichter van Zaanstad noemt zichzelf dan wel ‘intrigant’; tussen haakjes mag je er zelf wel ‘zachtaardig en bescheiden’ bij bedenken. Een scherpe pen\, maar niet vrij van humor.  Voor de perfecte balans zorgt de rustige muzikant Steven van der Steen\, die onder de naam Earial de liefde brengt en de dagelijkse dingen van de dag beschouwt. Hij laat zich niet uit zijn evenwicht brengen. \n\n\n\nEn dan… dan gaat de deur op slot van De Alkenaer\, om door Alja weer geopend te worden op de eerste zaterdag van september\, want we gaan wel gewoon door\, natuurlijk! \n\n\n\nReuring is een sprankelend eigenwijs literair initiatief van schrijver Alja Spaan. Het literair platform biedt maandelijks in De Alkenaer gratis een podium aan diverse dichters\, schrijvers\, musici en kunstenaars. \n\n\n\nVanaf 16.00 uur ben je welkom! \n\n\n\nGratis entree en reserveren is (nog) niet noodzakelijk. \n\n\n\n Kijk en luister naar Earial
URL:https://alkenaer.nl/evenement/reuring-trekt-de-deur-dicht/
CATEGORIES:Podium
ATTACH;FMTTYPE=image/png:https://alkenaer.nl/de_alkenaer/wp-content/uploads/2024/06/Poster-Reuring-6-juli-2024.png
END:VEVENT
END:VCALENDAR